BEGIN:VCALENDAR
VERSION:2.0
PRODID:-//siskiyoufoodassistance.org//NONSGML kigkonsult.se iCalcreator 2.3
 0.10//
CALSCALE:GREGORIAN
METHOD:PUBLISH
UID:f62ee603-5105-4411-ae8f-52153b5c5206
X-WR-CALDESC:A drive-thru\, first-come\, first-served turkey box distributi
 on. Bring proof of residence in South Siskiyou County.\n
X-WR-RELCALID:06f8d6d94074453b0750bb63008886cd
X-WR-TIMEZONE:America/Los_Angeles
BEGIN:VTIMEZONE
TZID:America/Los_Angeles
BEGIN:STANDARD
TZNAME:PST
DTSTART:20231105T020000
TZOFFSETFROM:-0700
TZOFFSETTO:-0800
RDATE:20241103T020000
END:STANDARD
BEGIN:DAYLIGHT
TZNAME:PDT
DTSTART:20230312T020000
TZOFFSETFROM:-0800
TZOFFSETTO:-0700
RDATE:20240310T020000
RDATE:20250309T020000
END:DAYLIGHT
END:VTIMEZONE
BEGIN:VEVENT
UID:99af9e21-0984-4839-8ae8-3515fd3a0219
DTSTAMP:20260419T125910Z
DESCRIPTION:A drive-thru\, first-come\, first-served turkey box distributio
 n. Bring proof of residence in South Siskiyou County.\n
DTSTART;TZID=America/Los_Angeles:20231120T100000
DTEND;TZID=America/Los_Angeles:20231120T130000
LOCATION:SFA Pantry\, 780 S. Davis Ave.\, Weed CA
SUMMARY:Turkey Box Distribution
END:VEVENT
END:VCALENDAR
