BEGIN:VCALENDAR
VERSION:2.0
PRODID:-//siskiyoufoodassistance.org//NONSGML kigkonsult.se iCalcreator 2.3
 0.10//
CALSCALE:GREGORIAN
METHOD:PUBLISH
UID:ba6869c8-d290-44ab-8caa-eabce518753a
X-WR-CALDESC:5k Run/Walk fun for the whole family. Start your Thanksgiving 
 Day by helping out Siskiyou Food Assistance and getting some exercise too!
 \nThe event begins at the COS football field and winds around the campus a
 nd Bear Trail. Award ribbons for the first three finishers in each age/gen
 der category. Delicious refreshments too.
X-WR-RELCALID:9fbca7fb47d9445c913dc14d84c4cd0f
X-WR-TIMEZONE:America/Los_Angeles
BEGIN:VTIMEZONE
TZID:America/Los_Angeles
BEGIN:STANDARD
TZNAME:PST
DTSTART:20231105T020000
TZOFFSETFROM:-0700
TZOFFSETTO:-0800
RDATE:20241103T020000
END:STANDARD
BEGIN:DAYLIGHT
TZNAME:PDT
DTSTART:20230312T020000
TZOFFSETFROM:-0800
TZOFFSETTO:-0700
RDATE:20240310T020000
RDATE:20250309T020000
END:DAYLIGHT
END:VTIMEZONE
BEGIN:VEVENT
UID:246410b9-8c77-4167-9674-6ebce3c2146c
DTSTAMP:20260419T122518Z
DESCRIPTION:5k Run/Walk fun for the whole family. Start your Thanksgiving D
 ay by helping out Siskiyou Food Assistance and getting some exercise too!
 \nThe event begins at the COS football field and winds around the campus a
 nd Bear Trail. Award ribbons for the first three finishers in each age/gen
 der category. Delicious refreshments too.
DTSTART;TZID=America/Los_Angeles:20231123T073000
DTEND;TZID=America/Los_Angeles:20231123T103000
LOCATION:College of the Siskiyous\, Weed\, CA
SUMMARY:Run For Food 5k run/walk
END:VEVENT
END:VCALENDAR
