BEGIN:VCALENDAR
VERSION:2.0
PRODID:-//siskiyoufoodassistance.org//NONSGML kigkonsult.se iCalcreator 2.3
 0.10//
CALSCALE:GREGORIAN
METHOD:PUBLISH
UID:c0453fca-c4bb-47a5-964a-e2ccb747592f
X-WR-CALDESC:North State Giving Tuesday (NSGT) is an online networking and 
 giving event that provides nonprofit organizations in Shasta\, Siskiyou\, 
 and Tehama counties the opportunity to gain exposure and start relationshi
 ps with new donors. The event takes place annually on the Tuesday after Th
 anksgiving.
X-WR-RELCALID:67e5c188b750429e130c458316eae083
X-WR-TIMEZONE:America/Los_Angeles
BEGIN:VTIMEZONE
TZID:America/Los_Angeles
BEGIN:STANDARD
TZNAME:PST
DTSTART:20231105T020000
TZOFFSETFROM:-0700
TZOFFSETTO:-0800
RDATE:20241103T020000
END:STANDARD
BEGIN:DAYLIGHT
TZNAME:PDT
DTSTART:20230312T020000
TZOFFSETFROM:-0800
TZOFFSETTO:-0700
RDATE:20240310T020000
RDATE:20250309T020000
END:DAYLIGHT
END:VTIMEZONE
BEGIN:VEVENT
UID:9c3a22a3-c813-41cc-821e-249eeeea7050
DTSTAMP:20260419T124502Z
DESCRIPTION:North State Giving Tuesday (NSGT) is an online networking and g
 iving event that provides nonprofit organizations in Shasta\, Siskiyou\, a
 nd Tehama counties the opportunity to gain exposure and start relationship
 s with new donors. The event takes place annually on the Tuesday after Tha
 nksgiving.
DTSTART;TZID=America/Los_Angeles:20231128T060000
DTEND;TZID=America/Los_Angeles:20231128T200000
LOCATION:https://www.northstategives.org/
SUMMARY:North State Giving Tuesday
END:VEVENT
END:VCALENDAR
