BEGIN:VCALENDAR
VERSION:2.0
PRODID:-//siskiyoufoodassistance.org//NONSGML kigkonsult.se iCalcreator 2.3
 0.10//
CALSCALE:GREGORIAN
METHOD:PUBLISH
UID:bc7e9562-7a9b-442d-a67e-8053b2f7db3f
X-WR-CALDESC:By invitation only\, call 530-408-6115 for more information
X-WR-RELCALID:c811dfcd53504f3ff0c26efc99d18c13
X-WR-TIMEZONE:America/Los_Angeles
BEGIN:VTIMEZONE
TZID:America/Los_Angeles
BEGIN:STANDARD
TZNAME:PST
DTSTART:20231105T020000
TZOFFSETFROM:-0700
TZOFFSETTO:-0800
RDATE:20241103T020000
RDATE:20251102T020000
END:STANDARD
BEGIN:DAYLIGHT
TZNAME:PDT
DTSTART:20240310T020000
TZOFFSETFROM:-0800
TZOFFSETTO:-0700
RDATE:20250309T020000
END:DAYLIGHT
END:VTIMEZONE
BEGIN:VEVENT
UID:5453ee65-e5b6-48be-94b6-527bba41850f
DTSTAMP:20260419T122812Z
DESCRIPTION:By invitation only\, call 530-408-6115 for more information
DTSTART;TZID=America/Los_Angeles:20240829T163000
DTEND;TZID=America/Los_Angeles:20240829T180000
LOCATION:
SUMMARY:Pilot Program - Grow Your Own Food Instruction
END:VEVENT
END:VCALENDAR
