BEGIN:VCALENDAR
VERSION:2.0
PRODID:-//siskiyoufoodassistance.org//NONSGML kigkonsult.se iCalcreator 2.3
 0.10//
CALSCALE:GREGORIAN
METHOD:PUBLISH
UID:a92f8cfd-705a-44c3-b48e-1fc64e15006f
X-WR-CALDESC:Board meetings are open to the public.
X-WR-RELCALID:7da6d5a86c9c5c572c7e207f8fb4ce33
X-WR-TIMEZONE:America/Los_Angeles
BEGIN:VTIMEZONE
TZID:America/Los_Angeles
BEGIN:STANDARD
TZNAME:PST
DTSTART:20251102T020000
TZOFFSETFROM:-0700
TZOFFSETTO:-0800
RDATE:20261101T020000
END:STANDARD
BEGIN:DAYLIGHT
TZNAME:PDT
DTSTART:20250309T020000
TZOFFSETFROM:-0800
TZOFFSETTO:-0700
RDATE:20260308T020000
RDATE:20270314T020000
END:DAYLIGHT
END:VTIMEZONE
BEGIN:VEVENT
UID:2340e7eb-b61b-410f-915d-16009badf715
DTSTAMP:20260419T134708Z
DESCRIPTION:Board meetings are open to the public.
DTSTART;TZID=America/Los_Angeles:20251106T110000
DTEND;TZID=America/Los_Angeles:20251106T120000
LOCATION:780 S. Davis Avenue Pantry\, Weed\, CA 96094 US
SUMMARY:SFA Board Meeting
END:VEVENT
END:VCALENDAR
